BEGIN:VCALENDAR
VERSION:2.0
PRODID:-//Verein WETZLAR ERINNERT e.V. - ECPv6.15.17.1//NONSGML v1.0//EN
CALSCALE:GREGORIAN
METHOD:PUBLISH
X-WR-CALNAME:Verein WETZLAR ERINNERT e.V.
X-ORIGINAL-URL:https://wetzlar-erinnert.de
X-WR-CALDESC:Veranstaltungen für Verein WETZLAR ERINNERT e.V.
REFRESH-INTERVAL;VALUE=DURATION:PT1H
X-Robots-Tag:noindex
X-PUBLISHED-TTL:PT1H
BEGIN:VTIMEZONE
TZID:Europe/Berlin
BEGIN:DAYLIGHT
TZOFFSETFROM:+0100
TZOFFSETTO:+0200
TZNAME:CEST
DTSTART:20240331T010000
END:DAYLIGHT
BEGIN:STANDARD
TZOFFSETFROM:+0200
TZOFFSETTO:+0100
TZNAME:CET
DTSTART:20241027T010000
END:STANDARD
BEGIN:DAYLIGHT
TZOFFSETFROM:+0100
TZOFFSETTO:+0200
TZNAME:CEST
DTSTART:20250330T010000
END:DAYLIGHT
BEGIN:STANDARD
TZOFFSETFROM:+0200
TZOFFSETTO:+0100
TZNAME:CET
DTSTART:20251026T010000
END:STANDARD
BEGIN:DAYLIGHT
TZOFFSETFROM:+0100
TZOFFSETTO:+0200
TZNAME:CEST
DTSTART:20260329T010000
END:DAYLIGHT
BEGIN:STANDARD
TZOFFSETFROM:+0200
TZOFFSETTO:+0100
TZNAME:CET
DTSTART:20261025T010000
END:STANDARD
END:VTIMEZONE
BEGIN:VEVENT
DTSTART;TZID=Europe/Berlin:20251024T170000
DTEND;TZID=Europe/Berlin:20251024T200000
DTSTAMP:20260423T182627
CREATED:20251021T150013Z
LAST-MODIFIED:20251022T182823Z
UID:27520-1761325200-1761336000@wetzlar-erinnert.de
SUMMARY:Biebertal zeigt Haltung
DESCRIPTION:Bürgerfest für Vielfalt und Demokratie \nFreitag\, 24. Oktober ab 17.00 Uhr\nauf dem Sportplatz am Bürgerhaus Bieber\nVeranstalter:\nAktionsbündnis für Vielfalt und Demokratie Biebertal\nDas Aktionsbündnis für Vielfalt und Demokratie Biebertal lädt am Freitag\, 24. Oktober ab 17.00 Uhr auf dem Sportplatz am Bürgerhaus Bieber zu einem Bürgerfest ein. Unterstützt wird es dabei von vielen Vereinen\, Jugendgruppen\, evangelischer und katholische Kirchen\, dem DGB und allen Gewerkschaften sowie von den in der Gemeindevertretung repräsentierten Parteien: FDP\, Freie Wähler\, Bündnis 90 / Die Grünen und SPD. \nIm Blick auf einen von der AfD angekündigten »Bürgerdialog« ruft das Aktionsbündnis alle Biebertalerinnen und Biebertaler zur Teilnahme auf. Ziel des Aktionsbündnisses und seiner Unterstützer sei es\, aus diesem Anlass sichtbar zu machen\, dass die große Mehrheit der Menschen in Biebertal für eine offene\, vielfältige und demokratische Gesellschaft einstehe. Das Bündnis möchte dieser Mehrheit in der Gemeinde eine Stimme geben\, die sich für Respekt\, Toleranz und Zusammenhalt einsetzen und sich gegen Ausgrenzung\, Rassismus und Hetze wenden. \n»Unsere Demokratie lebt vom Engagement ihrer Bürgerinnen und Bürger. Wir wollen zeigen\, dass Biebertal kein Ort für Spaltung\, Angst und Menschenfeindlichkeit ist«\, heißt es in der Erklärung des Aktionsbündnisses. »Vielfalt ist kein Problem\, sondern ein Gewinn für unsere Gemeinschaft.« Das Aktionsbündnis betont\, dass es um ein positives Zeichen für demokratische Werte geht. \nDie Teilnehmenden sollen durch ihre Anwesenheit deutlich machen\, dass in Biebertal Respekt und Solidarität stärker sind als Hass und Hetze. Im Rahmen des Bürgerfestes werden gemeinsam werden Plakate gemalt\, der Musiker Sven Görtz tritt auf und für das leibliche Wohl ist mit Tee\, Punsch\, Glühwein\, selbstgemachten Kuchen und Suppen bestens gesorgt. \nIn der Ankündigung der Initiative heißt es weiter: »Wir nehmen die geplante Veranstaltung der AfD zum Anlass\, die Stimmen derjenigen hörbar zu machen\, die täglich für ein gutes Miteinander in unserer Gemeinde stehen – in Vereinen\, in den Kirchen\, in der Nachbarschaft\, in Schulen und Betrieben. Diese Menschen repräsentieren die wahre Mehrheit in Biebertal.« »Wir stehen für eine Gesellschaft\, in der Menschen unabhängig von Herkunft\, Glauben oder Lebensweise in Würde zusammenleben können«\, so das Bündnis abschließend. »Biebertal steht für Demokratie\, Menschlichkeit und Vielfalt – und das wollen wir mit unserem Bürgerfest deutlich zeigen.« \nHandzettel der Veranstalter als PDF
URL:https://wetzlar-erinnert.de/event/biebertal-zeigt-haltung/
CATEGORIES:Aktion,Veranstaltung
ATTACH;FMTTYPE=image/jpeg:https://wetzlar-erinnert.de/wp-content/uploads/2025/10/2025-10-24-Sharepic-Biebertal-zeigt-Gesicht.jpg
END:VEVENT
END:VCALENDAR