BEGIN:VCALENDAR
VERSION:2.0
PRODID:-//Verein WETZLAR ERINNERT e.V. - ECPv6.15.17.1//NONSGML v1.0//EN
CALSCALE:GREGORIAN
METHOD:PUBLISH
X-ORIGINAL-URL:https://wetzlar-erinnert.de
X-WR-CALDESC:Veranstaltungen für Verein WETZLAR ERINNERT e.V.
REFRESH-INTERVAL;VALUE=DURATION:PT1H
X-Robots-Tag:noindex
X-PUBLISHED-TTL:PT1H
BEGIN:VTIMEZONE
TZID:Europe/Berlin
BEGIN:DAYLIGHT
TZOFFSETFROM:+0100
TZOFFSETTO:+0200
TZNAME:CEST
DTSTART:20240331T010000
END:DAYLIGHT
BEGIN:STANDARD
TZOFFSETFROM:+0200
TZOFFSETTO:+0100
TZNAME:CET
DTSTART:20241027T010000
END:STANDARD
BEGIN:DAYLIGHT
TZOFFSETFROM:+0100
TZOFFSETTO:+0200
TZNAME:CEST
DTSTART:20250330T010000
END:DAYLIGHT
BEGIN:STANDARD
TZOFFSETFROM:+0200
TZOFFSETTO:+0100
TZNAME:CET
DTSTART:20251026T010000
END:STANDARD
BEGIN:DAYLIGHT
TZOFFSETFROM:+0100
TZOFFSETTO:+0200
TZNAME:CEST
DTSTART:20260329T010000
END:DAYLIGHT
BEGIN:STANDARD
TZOFFSETFROM:+0200
TZOFFSETTO:+0100
TZNAME:CET
DTSTART:20261025T010000
END:STANDARD
END:VTIMEZONE
BEGIN:VEVENT
DTSTART;TZID=Europe/Berlin:20250830T143000
DTEND;TZID=Europe/Berlin:20250830T160000
DTSTAMP:20260423T211355
CREATED:20250712T160224Z
LAST-MODIFIED:20250818T153441Z
UID:26806-1756564200-1756569600@wetzlar-erinnert.de
SUMMARY:»Wieder Mensch sein« • Martyrium des Abram Korn
DESCRIPTION:Eine Lesung aus den Memoiren des Shoa-Überlebenden \nAbram Korn (USA)\nmit\nJochen Graf & Thomas Welling\nLiteraturfestival-Bühne \nvor dem Kulturzentrum Franzis • Avignon-Anlage\nSa. 30.08.2025\, 14:30 – 16:00 Uhr\nEs geht um die Jahre zwischen 1939 und 1947 und das\, was der zum Zeitpunkt des Überfalls der faschistischen Wehrmacht auf Polen 17 Jahre alte Abram (Abe) Korn erlebte. Jeder Tag kann für ihn der letzte sein\, weil sein Leben den Besatzern nichts bedeutet. Wie durch ein Wunder bleibt er dennoch am Leben.\nAbram Korn wurde 1923 in Lipno\, einer Kleinstadt in der Nähe Warschaus\, geboren. Vom Beginn des Krieges an bis zu seiner Befreiung am 11. April 1945 aus dem KZ Buchenwald durchlitt er alle Phasen und Stationen des teuflischen Plans der Nazis\, die Juden in Europa auszurotten. Er überlebte mit viel Glück\, Mut und der Hilfe guter Menschen; seine Familie\, sein Vater\, seine Mutter und die beiden Schwestern allerdings nicht. Als einen Überlebensfaktor nennt er die Hilfe einzelner Deutscher\, die menschlich und mitfühlend waren. Ihnen ist ein eigenes Kapitel gewidmet. In seinen nächtlichen Albträumen haben das Leiden und die Demütigungen nie aufgehört. \nDas bisher nur in den USA erschienene Buch hat Thomas Welling ins Deutsche übersetzt. Seit zwei Jahren bietet er gemeinsam mit Jochen Graf Schulen in der Region an\, im Rahmen des Unterrichts aus dem Buch zu lesen. \nEine Lesung im Rahmen des Ersten Literaturfestivals WetzlarDas Angebot von Lesungen in SchulenRückblick auf die Lesung zum Holocaust-Gedenktag 2023Weitere Informationen zum Literaturfestival als Downloads: \nProgrammheft zum Download als PDF ()Orientierungsplan zum Literaturfestifal zum Download als PDFWNZ-Ankündigung dieser Lesung zum Download als PDF
URL:https://wetzlar-erinnert.de/event/wieder-mensch-sein-das-martyrium-des-polnischen-juden-abe-korn/
LOCATION:Kulturzentrum FRANZIS\, Franziskaner Straße 4-6\, Wetzlar\, Hessen\, 35578\, Deutschland
CATEGORIES:Lesung,Veranstaltung
ATTACH;FMTTYPE=image/jpeg:https://wetzlar-erinnert.de/wp-content/uploads/2025/08/Jochen-GrafThomas-Welling-Abe-Korn-2000x1500Pixel-scaled.jpg
ORGANIZER;CN="Wetzlar erinnert e.V.":MAILTO:info@wetzlar-erinnert.de
END:VEVENT
END:VCALENDAR