BEGIN:VCALENDAR
VERSION:2.0
PRODID:-//Verein WETZLAR ERINNERT e.V. - ECPv6.15.17.1//NONSGML v1.0//EN
CALSCALE:GREGORIAN
METHOD:PUBLISH
X-ORIGINAL-URL:https://wetzlar-erinnert.de
X-WR-CALDESC:Veranstaltungen für Verein WETZLAR ERINNERT e.V.
REFRESH-INTERVAL;VALUE=DURATION:PT1H
X-Robots-Tag:noindex
X-PUBLISHED-TTL:PT1H
BEGIN:VTIMEZONE
TZID:Europe/Berlin
BEGIN:DAYLIGHT
TZOFFSETFROM:+0100
TZOFFSETTO:+0200
TZNAME:CEST
DTSTART:20240331T010000
END:DAYLIGHT
BEGIN:STANDARD
TZOFFSETFROM:+0200
TZOFFSETTO:+0100
TZNAME:CET
DTSTART:20241027T010000
END:STANDARD
BEGIN:DAYLIGHT
TZOFFSETFROM:+0100
TZOFFSETTO:+0200
TZNAME:CEST
DTSTART:20250330T010000
END:DAYLIGHT
BEGIN:STANDARD
TZOFFSETFROM:+0200
TZOFFSETTO:+0100
TZNAME:CET
DTSTART:20251026T010000
END:STANDARD
BEGIN:DAYLIGHT
TZOFFSETFROM:+0100
TZOFFSETTO:+0200
TZNAME:CEST
DTSTART:20260329T010000
END:DAYLIGHT
BEGIN:STANDARD
TZOFFSETFROM:+0200
TZOFFSETTO:+0100
TZNAME:CET
DTSTART:20261025T010000
END:STANDARD
END:VTIMEZONE
BEGIN:VEVENT
DTSTART;TZID=Europe/Berlin:20250618T190000
DTEND;TZID=Europe/Berlin:20250618T210000
DTSTAMP:20260425T222507
CREATED:20250518T184328Z
LAST-MODIFIED:20250518T184546Z
UID:26277-1750273200-1750280400@wetzlar-erinnert.de
SUMMARY:Lesung und Gespräch: Der Kobaltkanzler
DESCRIPTION:Die Initiative Kultur an Lahn und Dill\n\nlädt ein in die \nAlten Aula\n\nObertorstraße 20 | D 35578 Wetzlar\nam Mi.\, 18.06..2025\, 19:00 Uhr\nEinlass ab 18:30 Uhr\nHans-Urich Jörges:\n»Der Kobaltkanzler«\nWas wäre\, wenn die AfD den Kanzler stellte und zusammen mit der CDU regierte?\nModeration: Jörg Brausdorf \nZum Buch:\nDer Roman der Stunde: \n»Liebe Parteifreundinnen und -freunde\, ich möchte diese Sitzung mit einer wichtigen Mitteilung eröffnen.« Das Gemurmel verstummte. \n»Ich habe heute Morgen die Möglichkeiten einer Regierungskoalition mit der AfD sondiert. Dabei…«. Der einsetzende Tumult schnitt ihm das Wort ab. \nWas wäre\, wenn die AfD den Kanzler stellte und zusammen mit der CDU regierte? So fragt Hans-Ulrich Jörges – einer der bekanntesten deutschen Journalisten – in seinem Roman\, in dem er unsere Realität nur einen Schritt weiterdenkt. \nDie AfD wird bei der Bundestagswahl stärkste Partei und der CDU-Chef entschließt sich zu einer Koalition\, um sich trotz der Niederlage an der Macht zu halten. Er wird Außenminister\, macht jedoch zur Bedingung\, dass die Kanzlerschaft in der Mitte der Regierungszeit wechselt und er dann selbst die Führung übernimmt. \nDeutschland gerät aus den Fugen: Die CSU löst sich von der CDU. Schon am Wahlabend wird ein junger Demonstrant am Brandenburger Tor von einem Wasserwerfer der Polizei lebensgefährlich verletzt\, er stirbt drei Tage später und wird zur Symbolfigur des Widerstands. \nDas ist die Ausgangssituation des packenden Romans von Hans-Ulrich Jörges. Er schildert\, was passiert\, wenn das Land der AfD ausgeliefert wird. Politisch geben in der Koalition die Blauen den Ton an. Asylbewerber transportiert man zur Grenze zurück. ARD und ZDF verschmelzen\, der Rundfunkbeitrag wird abgeschafft. \nDie deutschen Zahlungen an die EU werden halbiert\, was Frankreich empört. Aus Russland bezieht Deutschland wieder billiges Gas. Während der Kobaltkanzler\, dem als PR-Idee der Farbton Kobaltblau angedichtet wird\, einen Freundschafts- und Nichtangriffspakt mit Russland auf den Weg bringt\, bricht er militärisch mit den USA. Nachdem sich die AfD-Rechten in den ersten Tagen noch zurückgehalten haben\, rufen sie nun marodierende Horden von Rechtsextremisten auf\, die Straßen der deutschen Städte zu übernehmen. \nNachdem die CDU die Koalition verlassen hat und ein Misstrauensvotum gegen den Kobaltkanzler gescheitert ist\, regiert die AfD per Verordnung allein weiter. Deutschland steht am Abgrund. \nBuch. Hardcover\n2024\n252 S.\nVerlag Osburg\nISBN 978-3-95510-363-7\n22\,00 € \nZum Autor:\nHans-Ulrich Jörges\, geboren 1951 in Bad Salzungen/Thüringen\, ist Journalist. Nach Stationen bei Reuters und der Süddeutschen Zeitung wechselte er zum Stern\, wo er ab 2007 Mitglied der Chefredaktion war.  \nBekannt wurde er durch seine wöchentlichen Kolumnen und zahlreiche Auftritte in Talkshows. \nEintrittspreis und Kartenvorverkauf\nVorverkauf 12\,00 €\nzuzüglich Verwaltungsgebühr \nAbendkasse: 17\,00 € \nKartenvorverkauf
URL:https://wetzlar-erinnert.de/event/lesung-und-gespraech-der-kobaltkanzler/
LOCATION:Alte Aula\, Obertorstraße 20\, Wetzlar\, Hessen\, 35578\, Deutschland
CATEGORIES:Lesung,Veranstaltung
ATTACH;FMTTYPE=image/jpeg:https://wetzlar-erinnert.de/wp-content/uploads/2025/05/2025-06-18-Lesung-HU-Hoerges-Der-Kobaltkanzler.jpg
END:VEVENT
END:VCALENDAR