BEGIN:VCALENDAR
VERSION:2.0
PRODID:-//Verein WETZLAR ERINNERT e.V. - ECPv6.15.17.1//NONSGML v1.0//EN
CALSCALE:GREGORIAN
METHOD:PUBLISH
X-ORIGINAL-URL:https://wetzlar-erinnert.de
X-WR-CALDESC:Veranstaltungen für Verein WETZLAR ERINNERT e.V.
REFRESH-INTERVAL;VALUE=DURATION:PT1H
X-Robots-Tag:noindex
X-PUBLISHED-TTL:PT1H
BEGIN:VTIMEZONE
TZID:Europe/Berlin
BEGIN:DAYLIGHT
TZOFFSETFROM:+0100
TZOFFSETTO:+0200
TZNAME:CEST
DTSTART:20230326T010000
END:DAYLIGHT
BEGIN:STANDARD
TZOFFSETFROM:+0200
TZOFFSETTO:+0100
TZNAME:CET
DTSTART:20231029T010000
END:STANDARD
BEGIN:DAYLIGHT
TZOFFSETFROM:+0100
TZOFFSETTO:+0200
TZNAME:CEST
DTSTART:20240331T010000
END:DAYLIGHT
BEGIN:STANDARD
TZOFFSETFROM:+0200
TZOFFSETTO:+0100
TZNAME:CET
DTSTART:20241027T010000
END:STANDARD
BEGIN:DAYLIGHT
TZOFFSETFROM:+0100
TZOFFSETTO:+0200
TZNAME:CEST
DTSTART:20250330T010000
END:DAYLIGHT
BEGIN:STANDARD
TZOFFSETFROM:+0200
TZOFFSETTO:+0100
TZNAME:CET
DTSTART:20251026T010000
END:STANDARD
END:VTIMEZONE
BEGIN:VEVENT
DTSTART;TZID=Europe/Berlin:20240903T143000
DTEND;TZID=Europe/Berlin:20240903T160000
DTSTAMP:20260425T121749
CREATED:20240722T172731Z
LAST-MODIFIED:20240730T070719Z
UID:24091-1725373800-1725379200@wetzlar-erinnert.de
SUMMARY:»Auf den Spuren von August Bebel«
DESCRIPTION:Stadtführung mit Irmgard Mende:\nDi.\, 3. September 2024\, 14:30 Uhr\nTreffpunkt: Am Brodschirm 2 | 35578 Wetzlar\n\nDer DGB-Kreisverband Lahn-Dill lädt ein zur Stadtführung über August Bebels Kindheit und Jugend in Wetzlar mit der Stadtführerin Irmgard Mende recht herzlich ein. Die Führung geht von der wohl wichtigste Station\, dem Wohnhaus am Brodschirm 2\, in dem Bebel lebte\, nachdem seine Mutter aus Deutz weggezogen war und Hilfe bei ihrer Familie in Wetzlar suchte. Heute weist eine Plakette an der Hausfassade des Fachwerkgebäudes auf das Leben von August Bebel von 1846 bis 1858 in Wetzlar hin. \nWährend am Bebelplatz zwischen Hauser Gasse\, Domtreppe und Rosengärtchen ein Denkmal auf Bebels Leben und Wirken in der Domstadt hinweist\, führt Irmgard Mende auch zu vielen Orte\, die man nicht auf den ersten Blick mit Bebel in Verbindung bringt: Die Reste der Stadtmauer an der Lahn\, auf denen Bebel als Junge kletterte oder das Alte Rathaus\, in dem früher der Armen- und Waisenfonds untergebracht war\, der für Bebel und seine Brüder sorgte. \nVeranstaltungsflyer des DGB zum DownloadAnmeldung zur Führung und Bebel-LesungWeitere Informationen zu Bebel in WetzlarInformationen zur Lesung über August Bebel danach am selben Tag
URL:https://wetzlar-erinnert.de/event/auf-den-spuren-von-august-bebel/
LOCATION:Wetzlar\, Start am Brodschirm\, Brodschirm\, Wetzlar\, Hessen\, 35578\, Deutschland
CATEGORIES:Veranstaltung
ATTACH;FMTTYPE=image/jpeg:https://wetzlar-erinnert.de/wp-content/uploads/2024/07/2024-09-03-Terminteaser-Bebel-Fruehrung.jpg
END:VEVENT
END:VCALENDAR