BEGIN:VCALENDAR
VERSION:2.0
PRODID:-//Verein WETZLAR ERINNERT e.V. - ECPv6.15.17.1//NONSGML v1.0//EN
CALSCALE:GREGORIAN
METHOD:PUBLISH
X-ORIGINAL-URL:https://wetzlar-erinnert.de
X-WR-CALDESC:Veranstaltungen für Verein WETZLAR ERINNERT e.V.
REFRESH-INTERVAL;VALUE=DURATION:PT1H
X-Robots-Tag:noindex
X-PUBLISHED-TTL:PT1H
BEGIN:VTIMEZONE
TZID:Europe/Berlin
BEGIN:DAYLIGHT
TZOFFSETFROM:+0100
TZOFFSETTO:+0200
TZNAME:CEST
DTSTART:20230326T010000
END:DAYLIGHT
BEGIN:STANDARD
TZOFFSETFROM:+0200
TZOFFSETTO:+0100
TZNAME:CET
DTSTART:20231029T010000
END:STANDARD
BEGIN:DAYLIGHT
TZOFFSETFROM:+0100
TZOFFSETTO:+0200
TZNAME:CEST
DTSTART:20240331T010000
END:DAYLIGHT
BEGIN:STANDARD
TZOFFSETFROM:+0200
TZOFFSETTO:+0100
TZNAME:CET
DTSTART:20241027T010000
END:STANDARD
BEGIN:DAYLIGHT
TZOFFSETFROM:+0100
TZOFFSETTO:+0200
TZNAME:CEST
DTSTART:20250330T010000
END:DAYLIGHT
BEGIN:STANDARD
TZOFFSETFROM:+0200
TZOFFSETTO:+0100
TZNAME:CET
DTSTART:20251026T010000
END:STANDARD
END:VTIMEZONE
BEGIN:VEVENT
DTSTART;TZID=Europe/Berlin:20240505T140000
DTEND;TZID=Europe/Berlin:20240505T170000
DTSTAMP:20260425T160813
CREATED:20230111T002335Z
LAST-MODIFIED:20240204T163155Z
UID:16123-1714917600-1714928400@wetzlar-erinnert.de
SUMMARY:Öffentliche Führung zum Weg der Erinnerung 2024
DESCRIPTION:Weg der Erinnerung\nEine Zeitreise durch das Wetzlar von 1933–1945\nÖffentliche Führung 2024 \nDer »Weg der Erinnerung« ist eine antifaschistische Stadtführung\, eine Zeitreise zu den Opfern\, zu den Tätern und zu den Ereignissen während der Nazidiktatur. \nDie Führung dauert drei Stunden\, beginnt mit einem Einführungsvortrag im Kulturzentrum FRANZIS und endet nach 15 Stationen am Hausertorstollen. Sie verknüpft das Geschehen in der Stadt Wetzlar mit der reichsweiten Entwicklung zwischen 1933 und 1945 und wird von hierfür eigens qualifizierten Guides (der Begriff »Führer« wäre bei diesem Thema geschmacklos) geleitet. \nTeilnahmemöglichkeit:\nTreffpunkt\nSonntag\, 5. Mai 2024\, Beginn: 14:00 Uhr\nbeim\nKulturzentrum Franzis\nFranziskanerstr. 4–6 | D 35578 Wetzlar. \nDie Teilnahme kostet 8\,–€ pro Person\nFür Jugendliche\, Erwerbslose und Vereinsmitglieder von WETZLAR ERINNERT e.V. 4\,– € \nEintrittspreis bitte abgezählt mitbringen.\nEine Anmeldung ist nicht notwendig\, aber gerne gesehen\ntelefonisch: 06441 – 92 18 40 bzw. —› per Mail\noder mit dem nachfolgenden Formular. \nAnmeldeformular:\n\n\nBitte aktiviere JavaScript in deinem Browser\, um dieses Formular fertigzustellen.Öffentliche Führungen "Weg der Erinnerung" / Datum auswählen *--bitte auswählen -So.\, 10.05.2026 - 14:00 UhrSo.\, 09.05.2027 - 14:00 UhrTeilnehmerzahl *Anrede *Vorname *Nachname *BeeinträchtigungenE-Mail-Adresse *E-Mail-AdresseE-Mail bestätigenMobil-Nummer *Weitere AngabenDSGVO-Einverständnis *Ja\, ich habe die Datenschutzerklärung zur Kenntnis genommen und bin damit einverstanden\, dass die von mir angegebenen Daten elektronisch erhoben und gespeichert werden. Meine Daten werden dabei nur streng zweckgebunden zur Bearbeitung und Beantwortung meiner Anfrage genutzt.Pflichtfelder müssen vor dem Absenden ausgefüllt werden und sind mit einem * gegenzeichnet.WebsiteAbsenden  Weitere Informationen und Anmeldung zur Teilnahme
URL:https://wetzlar-erinnert.de/event/oeffentliche-fuehrung-zum-weg-der-erinnerung-2024/
LOCATION:FRANZIS in Wetzlar\, Franziskanerstraße 6 35578 Wetzlar\, Wetzlar\, Hessen\, 35578\, Deutschland
CATEGORIES:Veranstaltung
ATTACH;FMTTYPE=image/jpeg:https://wetzlar-erinnert.de/wp-content/uploads/2021/09/2021-09-19_WdE-Fuehrung_012.jpg
ORGANIZER;CN="Wetzlar erinnert e.V.":MAILTO:info@wetzlar-erinnert.de
END:VEVENT
END:VCALENDAR